BEGIN:VCALENDAR
VERSION:2.0
PRODID:-//City of Tioga - ECPv6.15.20//NONSGML v1.0//EN
CALSCALE:GREGORIAN
METHOD:PUBLISH
X-WR-CALNAME:City of Tioga
X-ORIGINAL-URL:https://www.tiogatx.gov
X-WR-CALDESC:Events for City of Tioga
REFRESH-INTERVAL;VALUE=DURATION:PT1H
X-Robots-Tag:noindex
X-PUBLISHED-TTL:PT1H
BEGIN:VTIMEZONE
TZID:America/Chicago
BEGIN:DAYLIGHT
TZOFFSETFROM:-0600
TZOFFSETTO:-0500
TZNAME:CDT
DTSTART:20250309T080000
END:DAYLIGHT
BEGIN:STANDARD
TZOFFSETFROM:-0500
TZOFFSETTO:-0600
TZNAME:CST
DTSTART:20251102T070000
END:STANDARD
BEGIN:DAYLIGHT
TZOFFSETFROM:-0600
TZOFFSETTO:-0500
TZNAME:CDT
DTSTART:20260308T080000
END:DAYLIGHT
BEGIN:STANDARD
TZOFFSETFROM:-0500
TZOFFSETTO:-0600
TZNAME:CST
DTSTART:20261101T070000
END:STANDARD
BEGIN:DAYLIGHT
TZOFFSETFROM:-0600
TZOFFSETTO:-0500
TZNAME:CDT
DTSTART:20270314T080000
END:DAYLIGHT
BEGIN:STANDARD
TZOFFSETFROM:-0500
TZOFFSETTO:-0600
TZNAME:CST
DTSTART:20271107T070000
END:STANDARD
END:VTIMEZONE
BEGIN:VEVENT
DTSTART;TZID=America/Chicago:20260421T150000
DTEND;TZID=America/Chicago:20260421T151500
DTSTAMP:20260423T062940
CREATED:20260420T150419Z
LAST-MODIFIED:20260420T214132Z
UID:6869-1776783600-1776784500@www.tiogatx.gov
SUMMARY:Court
DESCRIPTION:
URL:https://www.tiogatx.gov/event/court-106/
END:VEVENT
BEGIN:VEVENT
DTSTART;TZID=America/Chicago:20260413T190000
DTEND;TZID=America/Chicago:20260413T191500
DTSTAMP:20260423T062940
CREATED:20260420T150419Z
LAST-MODIFIED:20260420T215112Z
UID:6868-1776106800-1776107700@www.tiogatx.gov
SUMMARY:City Council Meeting
DESCRIPTION:
URL:https://www.tiogatx.gov/event/city-council-meeting-108/
END:VEVENT
BEGIN:VEVENT
DTSTART;TZID=America/Chicago:20260407T150000
DTEND;TZID=America/Chicago:20260407T151500
DTSTAMP:20260423T062940
CREATED:20260420T150419Z
LAST-MODIFIED:20260420T215115Z
UID:6867-1775574000-1775574900@www.tiogatx.gov
SUMMARY:Court
DESCRIPTION:
URL:https://www.tiogatx.gov/event/court-105/
END:VEVENT
BEGIN:VEVENT
DTSTART;VALUE=DATE:20260403
DTEND;VALUE=DATE:20260405
DTSTAMP:20260423T062940
CREATED:20260420T150418Z
LAST-MODIFIED:20260420T215117Z
UID:6866-1775174400-1775347199@www.tiogatx.gov
SUMMARY:City Hall Closed
DESCRIPTION:
URL:https://www.tiogatx.gov/event/city-hall-closed-71/
END:VEVENT
BEGIN:VEVENT
DTSTART;TZID=America/Chicago:20260330T190000
DTEND;TZID=America/Chicago:20260330T200000
DTSTAMP:20260423T062940
CREATED:20260420T150418Z
LAST-MODIFIED:20260420T215120Z
UID:6865-1774897200-1774900800@www.tiogatx.gov
SUMMARY:Planning and Zoning Commission Meeting
DESCRIPTION:
URL:https://www.tiogatx.gov/event/planning-and-zoning-commission-meeting-26/
END:VEVENT
BEGIN:VEVENT
DTSTART;TZID=America/Chicago:20260317T150000
DTEND;TZID=America/Chicago:20260317T151500
DTSTAMP:20260423T062940
CREATED:20260420T150418Z
LAST-MODIFIED:20260420T215123Z
UID:6864-1773759600-1773760500@www.tiogatx.gov
SUMMARY:Court
DESCRIPTION:
URL:https://www.tiogatx.gov/event/court-104/
END:VEVENT
BEGIN:VEVENT
DTSTART;TZID=America/Chicago:20260309T190000
DTEND;TZID=America/Chicago:20260309T191500
DTSTAMP:20260423T062940
CREATED:20260420T150418Z
LAST-MODIFIED:20260420T215126Z
UID:6862-1773082800-1773083700@www.tiogatx.gov
SUMMARY:City Council Meeting
DESCRIPTION:
URL:https://www.tiogatx.gov/event/city-council-meeting-107/
END:VEVENT
BEGIN:VEVENT
DTSTART;TZID=America/Chicago:20260309T190000
DTEND;TZID=America/Chicago:20260309T191500
DTSTAMP:20260423T062940
CREATED:20260420T150418Z
LAST-MODIFIED:20260420T215129Z
UID:6863-1773082800-1773083700@www.tiogatx.gov
SUMMARY:Zoning Board of Adjustment Meeting
DESCRIPTION:
URL:https://www.tiogatx.gov/event/zoning-board-of-adjustment-meeting/
END:VEVENT
BEGIN:VEVENT
DTSTART;TZID=America/Chicago:20260303T150000
DTEND;TZID=America/Chicago:20260303T151500
DTSTAMP:20260423T062940
CREATED:20260420T150418Z
LAST-MODIFIED:20260420T215132Z
UID:6861-1772550000-1772550900@www.tiogatx.gov
SUMMARY:Court
DESCRIPTION:
URL:https://www.tiogatx.gov/event/court-103/
END:VEVENT
BEGIN:VEVENT
DTSTART;TZID=America/Chicago:20260223T190000
DTEND;TZID=America/Chicago:20260223T191500
DTSTAMP:20260423T062940
CREATED:20260420T150418Z
LAST-MODIFIED:20260420T215135Z
UID:6860-1771873200-1771874100@www.tiogatx.gov
SUMMARY:Planning and Zoning Commission Meeting
DESCRIPTION:
URL:https://www.tiogatx.gov/event/planning-and-zoning-commission-meeting-25/
END:VEVENT
END:VCALENDAR