BEGIN:VCALENDAR
VERSION:2.0
PRODID:-//City of Tioga - ECPv6.15.20//NONSGML v1.0//EN
CALSCALE:GREGORIAN
METHOD:PUBLISH
X-WR-CALNAME:City of Tioga
X-ORIGINAL-URL:https://www.tiogatx.gov
X-WR-CALDESC:Events for City of Tioga
REFRESH-INTERVAL;VALUE=DURATION:PT1H
X-Robots-Tag:noindex
X-PUBLISHED-TTL:PT1H
BEGIN:VTIMEZONE
TZID:America/Chicago
BEGIN:DAYLIGHT
TZOFFSETFROM:-0600
TZOFFSETTO:-0500
TZNAME:CDT
DTSTART:20250309T080000
END:DAYLIGHT
BEGIN:STANDARD
TZOFFSETFROM:-0500
TZOFFSETTO:-0600
TZNAME:CST
DTSTART:20251102T070000
END:STANDARD
BEGIN:DAYLIGHT
TZOFFSETFROM:-0600
TZOFFSETTO:-0500
TZNAME:CDT
DTSTART:20260308T080000
END:DAYLIGHT
BEGIN:STANDARD
TZOFFSETFROM:-0500
TZOFFSETTO:-0600
TZNAME:CST
DTSTART:20261101T070000
END:STANDARD
BEGIN:DAYLIGHT
TZOFFSETFROM:-0600
TZOFFSETTO:-0500
TZNAME:CDT
DTSTART:20270314T080000
END:DAYLIGHT
BEGIN:STANDARD
TZOFFSETFROM:-0500
TZOFFSETTO:-0600
TZNAME:CST
DTSTART:20271107T070000
END:STANDARD
END:VTIMEZONE
BEGIN:VEVENT
DTSTART;TZID=America/Chicago:20260502T070000
DTEND;TZID=America/Chicago:20260502T190000
DTSTAMP:20260423T074204
CREATED:20260420T150419Z
LAST-MODIFIED:20260420T214132Z
UID:6871-1777705200-1777748400@www.tiogatx.gov
SUMMARY:City of Tioga General Election
DESCRIPTION:
URL:https://www.tiogatx.gov/event/city-of-tioga-general-election-2/
END:VEVENT
BEGIN:VEVENT
DTSTART;TZID=America/Chicago:20260505T150000
DTEND;TZID=America/Chicago:20260505T151500
DTSTAMP:20260423T074204
CREATED:20260420T150419Z
LAST-MODIFIED:20260420T214514Z
UID:6872-1777993200-1777994100@www.tiogatx.gov
SUMMARY:Court
DESCRIPTION:
URL:https://www.tiogatx.gov/event/court-107/
END:VEVENT
BEGIN:VEVENT
DTSTART;TZID=America/Chicago:20260511T190000
DTEND;TZID=America/Chicago:20260511T200000
DTSTAMP:20260423T074204
CREATED:20260420T150419Z
LAST-MODIFIED:20260420T214518Z
UID:6873-1778526000-1778529600@www.tiogatx.gov
SUMMARY:City Council Meeting
DESCRIPTION:
URL:https://www.tiogatx.gov/event/city-council-meeting-109/
END:VEVENT
BEGIN:VEVENT
DTSTART;TZID=America/Chicago:20260518T190000
DTEND;TZID=America/Chicago:20260518T191500
DTSTAMP:20260423T074204
CREATED:20260420T150419Z
LAST-MODIFIED:20260420T214522Z
UID:6874-1779130800-1779131700@www.tiogatx.gov
SUMMARY:Planning and Zoning Commission Meeting
DESCRIPTION:
URL:https://www.tiogatx.gov/event/planning-and-zoning-commission-meeting-28/
END:VEVENT
BEGIN:VEVENT
DTSTART;TZID=America/Chicago:20260519T150000
DTEND;TZID=America/Chicago:20260519T151500
DTSTAMP:20260423T074204
CREATED:20260420T150419Z
LAST-MODIFIED:20260420T214526Z
UID:6875-1779202800-1779203700@www.tiogatx.gov
SUMMARY:Court
DESCRIPTION:
URL:https://www.tiogatx.gov/event/court-108/
END:VEVENT
BEGIN:VEVENT
DTSTART;VALUE=DATE:20260525
DTEND;VALUE=DATE:20260527
DTSTAMP:20260423T074204
CREATED:20260420T150419Z
LAST-MODIFIED:20260420T214529Z
UID:6876-1779667200-1779839999@www.tiogatx.gov
SUMMARY:City Hall Closed
DESCRIPTION:
URL:https://www.tiogatx.gov/event/city-hall-closed-72/
END:VEVENT
END:VCALENDAR