BEGIN:VCALENDAR
VERSION:2.0
PRODID:-//City of Tioga - ECPv6.15.20//NONSGML v1.0//EN
CALSCALE:GREGORIAN
METHOD:PUBLISH
X-WR-CALNAME:City of Tioga
X-ORIGINAL-URL:https://www.tiogatx.gov
X-WR-CALDESC:Events for City of Tioga
REFRESH-INTERVAL;VALUE=DURATION:PT1H
X-Robots-Tag:noindex
X-PUBLISHED-TTL:PT1H
BEGIN:VTIMEZONE
TZID:America/Chicago
BEGIN:DAYLIGHT
TZOFFSETFROM:-0600
TZOFFSETTO:-0500
TZNAME:CDT
DTSTART:20250309T080000
END:DAYLIGHT
BEGIN:STANDARD
TZOFFSETFROM:-0500
TZOFFSETTO:-0600
TZNAME:CST
DTSTART:20251102T070000
END:STANDARD
BEGIN:DAYLIGHT
TZOFFSETFROM:-0600
TZOFFSETTO:-0500
TZNAME:CDT
DTSTART:20260308T080000
END:DAYLIGHT
BEGIN:STANDARD
TZOFFSETFROM:-0500
TZOFFSETTO:-0600
TZNAME:CST
DTSTART:20261101T070000
END:STANDARD
BEGIN:DAYLIGHT
TZOFFSETFROM:-0600
TZOFFSETTO:-0500
TZNAME:CDT
DTSTART:20270314T080000
END:DAYLIGHT
BEGIN:STANDARD
TZOFFSETFROM:-0500
TZOFFSETTO:-0600
TZNAME:CST
DTSTART:20271107T070000
END:STANDARD
END:VTIMEZONE
BEGIN:VEVENT
DTSTART;VALUE=DATE:20260703
DTEND;VALUE=DATE:20260705
DTSTAMP:20260423T102551
CREATED:20260420T150419Z
LAST-MODIFIED:20260420T214542Z
UID:6881-1783036800-1783209599@www.tiogatx.gov
SUMMARY:City Hall Closed
DESCRIPTION:
URL:https://www.tiogatx.gov/event/city-hall-closed-73/
END:VEVENT
BEGIN:VEVENT
DTSTART;TZID=America/Chicago:20260707T150000
DTEND;TZID=America/Chicago:20260707T151500
DTSTAMP:20260423T102551
CREATED:20260420T150419Z
LAST-MODIFIED:20260420T214545Z
UID:6882-1783436400-1783437300@www.tiogatx.gov
SUMMARY:Court
DESCRIPTION:
URL:https://www.tiogatx.gov/event/court-111/
END:VEVENT
BEGIN:VEVENT
DTSTART;TZID=America/Chicago:20260713T190000
DTEND;TZID=America/Chicago:20260713T191500
DTSTAMP:20260423T102551
CREATED:20260420T150419Z
LAST-MODIFIED:20260420T214549Z
UID:6883-1783969200-1783970100@www.tiogatx.gov
SUMMARY:City Council Meeting
DESCRIPTION:
URL:https://www.tiogatx.gov/event/city-council-meeting-111/
END:VEVENT
BEGIN:VEVENT
DTSTART;TZID=America/Chicago:20260721T150000
DTEND;TZID=America/Chicago:20260721T151500
DTSTAMP:20260423T102551
CREATED:20260420T150419Z
LAST-MODIFIED:20260420T214552Z
UID:6884-1784646000-1784646900@www.tiogatx.gov
SUMMARY:Court
DESCRIPTION:
URL:https://www.tiogatx.gov/event/court-112/
END:VEVENT
BEGIN:VEVENT
DTSTART;TZID=America/Chicago:20260727T190000
DTEND;TZID=America/Chicago:20260727T191500
DTSTAMP:20260423T102551
CREATED:20260420T150419Z
LAST-MODIFIED:20260420T214608Z
UID:6885-1785178800-1785179700@www.tiogatx.gov
SUMMARY:Planning and Zoning Commission Meeting
DESCRIPTION:
URL:https://www.tiogatx.gov/event/planning-and-zoning-commission-meeting-30/
END:VEVENT
END:VCALENDAR